{
 "currentVersion": 10.91,
 "serviceDescription": "image_test",
 "name": "image_test",
 "description": "",
 "extent": {
  "xmin": 599920,
  "ymin": 190100,
  "xmax": 709940,
  "ymax": 300140,
  "spatialReference": {
   "wkid": 32647,
   "latestWkid": 32647
  }
 },
 "initialExtent": {
  "xmin": 599920,
  "ymin": 190100,
  "xmax": 709940,
  "ymax": 300140,
  "spatialReference": {
   "wkid": 32647,
   "latestWkid": 32647
  }
 },
 "fullExtent": {
  "xmin": 599920,
  "ymin": 190100,
  "xmax": 709940,
  "ymax": 300140,
  "spatialReference": {
   "wkid": 32647,
   "latestWkid": 32647
  }
 },
 "hasMultidimensions": false,
 "pixelSizeX": 20,
 "pixelSizeY": 20,
 "datasetFormat": "TIFF",
 "uncompressedSize": 121066008,
 "blockWidth": 128,
 "blockHeight": 128,
 "compressionType": "None",
 "bandNames": [
  "Band_1",
  "Band_2",
  "Band_3",
  "Band_4"
 ],
 "allowCopy": true,
 "allowAnalysis": true,
 "bandCount": 4,
 "pixelType": "U8",
 "minPixelSize": 0,
 "maxPixelSize": 0,
 "copyrightText": "",
 "serviceDataType": "esriImageServiceDataTypeGeneric",
 "serviceSourceType": "esriImageServiceSourceTypeDataset",
 "minValues": [
  0,
  0,
  0,
  0
 ],
 "maxValues": [
  255,
  255,
  255,
  255
 ],
 "meanValues": [
  76.860996457395,
  53.566304589802,
  68.535353936824,
  253.93504343516
 ],
 "stdvValues": [
  36.917261766268,
  39.640361252364,
  33.274156289152,
  16.444749936898
 ],
 "objectIdField": "",
 "fields": [],
 "capabilities": "Image,Metadata,Mensuration",
 "defaultMosaicMethod": "Center",
 "allowedMosaicMethods": "",
 "sortField": "",
 "sortValue": null,
 "sortAscending": true,
 "mosaicOperator": "First",
 "defaultCompressionQuality": 75,
 "defaultResamplingMethod": "Bilinear",
 "maxImageHeight": 4100,
 "maxImageWidth": 15000,
 "allowRasterFunction": true,
 "rasterFunctionInfos": [
  {
   "name": "None",
   "description": "",
   "help": ""
  }
 ],
 "rasterTypeInfos": [
  {
   "name": "Raster Dataset",
   "description": "Supports all ArcGIS Raster Datasets",
   "help": ""
  }
 ],
 "mensurationCapabilities": "Basic",
 "hasHistograms": true,
 "hasColormap": false,
 "hasRasterAttributeTable": false,
 "minScale": 0,
 "maxScale": 0,
 "exportTilesAllowed": false,
 "supportsStatistics": false,
 "supportsAdvancedQueries": false,
 "editFieldsInfo": null,
 "ownershipBasedAccessControlForRasters": null,
 "allowComputeTiePoints": false,
 "useStandardizedQueries": true,
 "advancedQueryCapabilities": {
  "useStandardizedQueries": true,
  "supportsStatistics": false,
  "supportsOrderBy": false,
  "supportsDistinct": false,
  "supportsPagination": false
 },
 "spatialReference": {
  "wkid": 32647,
  "latestWkid": 32647
 }
}
